BEGIN:VCALENDAR
VERSION:2.0
PRODID:spatie/icalendar-generator
DESCRIPTION:Events from LA County Homeless Services &amp;amp\; Housing
X-WR-CALDESC:Events from LA County Homeless Services &amp;amp\; Housing
REFRESH-INTERVAL;VALUE=DURATION:PT1440M
X-PUBLISHED-TTL:PT1440M
BEGIN:VTIMEZONE
TZID:America/Los_Angeles
BEGIN:STANDARD
DTSTART:20251102T020000Z
TZOFFSETFROM:-0700
TZOFFSETTO:-0800
END:STANDARD
BEGIN:DAYLIGHT
DTSTART:20260308T020000Z
TZOFFSETFROM:-0800
TZOFFSETTO:-0700
END:DAYLIGHT
END:VTIMEZONE
BEGIN:VTIMEZONE
TZID:UTC
BEGIN:STANDARD
DTSTART:20250729T160819Z
TZOFFSETFROM:+0000
TZOFFSETTO:+0000
END:STANDARD
END:VTIMEZONE
BEGIN:VEVENT
UID:63-59
DTSTAMP:20260425T160819Z
SUMMARY:ECRHA Meeting
LOCATION:Kenneth Hahn Hall of Administration\, Room 140 500 W. Temple Stree
 t  Los Angeles CA 90012
ORGANIZER;CN=Rowena Magana:MAILTO:RMagana@hsh.lacounty.gov
DTSTART;TZID=America/Los_Angeles:20260410T130000
DTEND;TZID=America/Los_Angeles:20260410T153000
X-ALT-DESC;FMTTYPE=TEXT/HTML:Agenda Recording
CATEGORIES:ECRHA
URL;VALUE=URI:https://homeless.lacounty.gov/mc-events/ecrha-meeting-12/
METHOD:PUBLISH
END:VEVENT
END:VCALENDAR